BEGIN:VCALENDAR
VERSION:2.0
PRODID:-//Tukios.com/
BEGIN:VEVENT
UID:62b0375a-e8e8-42f1-8a90-c0620d9ce2ba@www.goodwinsieversfh.com
DTSTAMP:20260423T171355Z
DTSTART:20260430T150000Z
DTEND:20260430T170000Z
SUMMARY:Visitation
DESCRIPTION:
URL:https://www.goodwinsieversfh.com/obituaries/carlos-phillippe
LOCATION: 524 Broadway Street  Vincennes IN 47591
GEO:38.6782831;-87.5274059
END:VEVENT
END:VCALENDAR