BEGIN:VCALENDAR
VERSION:2.0
PRODID:-//Tukios.com/
BEGIN:VEVENT
UID:cff08d08-c386-43bf-a3f0-89bb0760add6@www.goodwinsieversfh.com
DTSTAMP:20260423T171849Z
DTSTART:20260430T170000Z
DTEND:20260430T180000Z
SUMMARY:Memorial Service
DESCRIPTION:
URL:https://www.goodwinsieversfh.com/obituaries/carlos-phillippe
LOCATION: 524 Broadway Street  Vincennes IN 47591
GEO:38.6782831;-87.5274059
END:VEVENT
END:VCALENDAR