BEGIN:VCALENDAR
VERSION:2.0
PRODID:-//Tukios.com/
BEGIN:VEVENT
UID:8ea0ce95-edba-4ad5-b59f-9dcf89f3ff27@www.goodwinsieversfh.com
DTSTAMP:20260422T161831Z
DTSTART:20260424T150000Z
DTEND:20260424T160000Z
SUMMARY:Graveside Service
DESCRIPTION:
URL:https://www.goodwinsieversfh.com/obituaries/celeste-phipps
LOCATION:Memorial Park Cemetery 919 Willow Street  Vincennes IN 47591
GEO:38.6658455;-87.5389673
END:VEVENT
END:VCALENDAR