BEGIN:VCALENDAR
VERSION:2.0
PRODID:-//Tukios.com/
BEGIN:VEVENT
UID:903057b6-119d-4aab-ba6b-306ff602470a@www.goodwinsieversfh.com
DTSTAMP:20260421T212051Z
DTSTART:20260424T200000Z
DTEND:20260424T230000Z
SUMMARY:Visitation
DESCRIPTION:
URL:https://www.goodwinsieversfh.com/obituaries/judith-strate
LOCATION: 1423 N 4th St  Vincennes IN 47591
GEO:38.6850014;-87.5165397
END:VEVENT
END:VCALENDAR