BEGIN:VCALENDAR
VERSION:2.0
PRODID:-//Tukios.com/
BEGIN:VEVENT
UID:f0139994-7335-4571-a712-1560fea87d49@www.goodwinsieversfh.com
DTSTAMP:20260421T212648Z
DTSTART:20260425T133000Z
DTEND:20260425T143000Z
SUMMARY:Visitation
DESCRIPTION:
URL:https://www.goodwinsieversfh.com/obituaries/judith-strate
LOCATION: 1423 N 4th St  Vincennes IN 47591
GEO:38.6850014;-87.5165397
END:VEVENT
END:VCALENDAR