BEGIN:VCALENDAR
VERSION:2.0
PRODID:-//Tukios.com/
BEGIN:VEVENT
UID:6a44ca6c-e078-42fd-a74a-14616e8a41de@www.goodwinsieversfh.com
DTSTAMP:20260421T213050Z
DTSTART:20260425T143000Z
DTEND:20260425T153000Z
SUMMARY:Funeral Service
DESCRIPTION:
URL:https://www.goodwinsieversfh.com/obituaries/judith-strate
LOCATION: 1423 N 4th St  Vincennes IN 47591
GEO:38.6850014;-87.5165397
END:VEVENT
END:VCALENDAR