BEGIN:VCALENDAR
VERSION:2.0
PRODID:-//Tukios.com/
BEGIN:VEVENT
UID:d52eb53c-d6f7-4df1-b5b5-4f6319cee4ec@www.goodwinsieversfh.com
DTSTAMP:20260420T213349Z
DTSTART:20260425T190000Z
DTEND:20260425T220000Z
SUMMARY:Visitation
DESCRIPTION:
URL:https://www.goodwinsieversfh.com/obituaries/steven-alton
LOCATION:Goodwin-Sievers Funeral Home 524 Broadway Street  Vincennes IN 
	47591
GEO:38.6782831;-87.5274059
END:VEVENT
END:VCALENDAR